BEGIN:VCALENDAR
VERSION:2.0
PRODID:-//MD - ECPv6.0.8//NONSGML v1.0//EN
CALSCALE:GREGORIAN
METHOD:PUBLISH
X-ORIGINAL-URL:https://mdvconsultorias.com.br
X-WR-CALDESC:Eventos para MD
REFRESH-INTERVAL;VALUE=DURATION:PT1H
X-Robots-Tag:noindex
X-PUBLISHED-TTL:PT1H
BEGIN:VTIMEZONE
TZID:America/Sao_Paulo
BEGIN:STANDARD
TZOFFSETFROM:-0300
TZOFFSETTO:-0300
TZNAME:-03
DTSTART:20230101T000000
END:STANDARD
END:VTIMEZONE
BEGIN:VEVENT
DTSTART;TZID=America/Sao_Paulo:20231019T080000
DTEND;TZID=America/Sao_Paulo:20231022T170000
DTSTAMP:20260422T145935
CREATED:20230206T134140Z
LAST-MODIFIED:20230206T135025Z
UID:7781-1697702400-1697994000@mdvconsultorias.com.br
SUMMARY:Curso Operador de Drone Agrícola - Módulo Aplicador Aeroagrícola Remoto (CAAR)
DESCRIPTION:Curso obrigatório conforme Portaria 298 do Ministério da Agricultura\, Pecuária e Abastecimento (MAPA). Destinado a profissionais que trabalharão com pulverização e controle biológico. \nCurso de nível avançado e com certificação MAPA. Carga horária total de 28 horas (Módulos 1\, 2\, 3 e prova) \nQUER SABER MAIS? CLIQUE AQUI.
URL:https://mdvconsultorias.com.br/evento/curso-operador-de-drone-agricola-modulo-aplicador-aeroagricola-remoto-caar-2/
LOCATION:Fundação de Estudos e Pesquisas Agrícolas e Florestais (FEPAF) – Fazenda Experimental Lageado (FCA/UNESP).\, Av. Universitária\, N° 3780 - Altos do Paraíso\, Botucatu\, São Paulo\, Brasil
END:VEVENT
END:VCALENDAR