BEGIN:VCALENDAR
VERSION:2.0
PRODID:-//MD - ECPv6.0.8//NONSGML v1.0//EN
CALSCALE:GREGORIAN
METHOD:PUBLISH
X-WR-CALNAME:MD
X-ORIGINAL-URL:https://mdvconsultorias.com.br
X-WR-CALDESC:Eventos para MD
REFRESH-INTERVAL;VALUE=DURATION:PT1H
X-Robots-Tag:noindex
X-PUBLISHED-TTL:PT1H
BEGIN:VTIMEZONE
TZID:America/Sao_Paulo
BEGIN:STANDARD
TZOFFSETFROM:-0300
TZOFFSETTO:-0300
TZNAME:-03
DTSTART:20230101T000000
END:STANDARD
END:VTIMEZONE
BEGIN:VEVENT
DTSTART;TZID=America/Sao_Paulo:20230523T080000
DTEND;TZID=America/Sao_Paulo:20230525T170000
DTSTAMP:20260423T125936
CREATED:20230206T122421Z
LAST-MODIFIED:20230206T134850Z
UID:7735-1684828800-1685034000@mdvconsultorias.com.br
SUMMARY:Curso Operador de Drone Agrícola - Turma exclusiva
DESCRIPTION:Curso Operador de Drone Agrícola para turma exclusiva.
URL:https://mdvconsultorias.com.br/evento/curso-operador-de-drone-agricola-turma-exclusiva-2/
LOCATION:Campinas\, São Paulo
END:VEVENT
END:VCALENDAR