BEGIN:VCALENDAR
VERSION:2.0
PRODID:-//MD - ECPv6.0.8//NONSGML v1.0//EN
CALSCALE:GREGORIAN
METHOD:PUBLISH
X-WR-CALNAME:MD
X-ORIGINAL-URL:https://mdvconsultorias.com.br
X-WR-CALDESC:Eventos para MD
REFRESH-INTERVAL;VALUE=DURATION:PT1H
X-Robots-Tag:noindex
X-PUBLISHED-TTL:PT1H
BEGIN:VTIMEZONE
TZID:America/Sao_Paulo
BEGIN:STANDARD
TZOFFSETFROM:-0300
TZOFFSETTO:-0300
TZNAME:-03
DTSTART:20230101T000000
END:STANDARD
END:VTIMEZONE
BEGIN:VEVENT
DTSTART;TZID=America/Sao_Paulo:20230518T000000
DTEND;TZID=America/Sao_Paulo:20230521T235900
DTSTAMP:20260423T160349
CREATED:20230119T174531Z
LAST-MODIFIED:20230206T121626Z
UID:6338-1684368000-1684713540@mdvconsultorias.com.br
SUMMARY:Curso Aplicador Aeroagrícola Remoto - CAAR
DESCRIPTION:Curso obrigatório conforme Portaria 298 do Ministério da Agricultura\, Pecuária e Abastecimento (MAPA). Destinado a profissionais que trabalharão com pulverização e controle biológico. \nCurso de nível avançado e com certificação MAPA. Carga horária total de 28 horas (Módulos 1\, 2\, 3 e prova) \nQUER SABER MAIS? CLIQUE AQUI.
URL:https://mdvconsultorias.com.br/evento/curso-aplicador-aeroagricola-remoto-caar/
LOCATION:Fundação de Estudos e Pesquisas Agrícolas e Florestais (FEPAF) – Fazenda Experimental Lageado (FCA/UNESP).\, Av. Universitária\, N° 3780 - Altos do Paraíso\, Botucatu\, São Paulo\, Brasil
END:VEVENT
END:VCALENDAR